BEGIN:VCALENDAR
PRODID:-//eluceo/ical//2.0/EN
VERSION:2.0
CALSCALE:GREGORIAN
BEGIN:VEVENT
UID:309486d0cc0da840da0b38c80b2746e6
DTSTAMP:20260425T190749Z
SUMMARY:Dean Cycon - Finding Home
DESCRIPTION:Simon Family JCC\nJCC Event Calendar\nhttps://jcc.jewishva.org/
 jcc-event-calendar/lee--bernard--jaffe-family-jewish-book-festival-program
 -1683570272-437341\n\nDean Cycon - Finding Home (Hungary\, 1945)\n\n \n\n
 (Please wait for information below to load)
DTSTART;TZID=America/New_York:20231109T120000
DTEND;TZID=America/New_York:20231109T133000
END:VEVENT
END:VCALENDAR
