BEGIN:VCALENDAR
PRODID:-//eluceo/ical//2.0/EN
VERSION:2.0
CALSCALE:GREGORIAN
BEGIN:VEVENT
UID:60726279952d48f042daaab89411122c
DTSTAMP:20260419T123513Z
SUMMARY:Liel Leibovitz
DESCRIPTION:Simon Family JCC\nJCC Event Calendar\nhttps://jcc.jewishva.org/
 jcc-event-calendar/liel-leibovitz-477262\n\nLiel Leibovitz: How the Talmud
  Can Change Your Life: Surprisingly Modern Advice From a Very Old Book\n\n
 Liel Leibovitz brings the Talmud to life with humor\, insight\, and passio
 n\, revealing it as humanity’s first self-help book. \n\nPlease alllow 
 a moment for information and registration to load below.
DTSTART;TZID=America/New_York:20250403T193000
DTEND;TZID=America/New_York:20250403T210000
END:VEVENT
END:VCALENDAR
