BEGIN:VCALENDAR
PRODID:-//eluceo/ical//2.0/EN
VERSION:2.0
CALSCALE:GREGORIAN
BEGIN:VEVENT
UID:667c3f733df5aad878f537ed01ff52d6
DTSTAMP:20260423T003210Z
SUMMARY:Love\, Loss\, Wisdom: A Melton Class at OST
DESCRIPTION:Simon Family JCC\nJCC Event Calendar\nhttps://jcc.jewishva.org/
 jcc-event-calendar/love-loss-wisdom-a-melton-class-at-ost-1699545073-45185
 9\n\nDiscover\, during this six-week course\, the Jewish responses and rit
 uals that take us through mourning and arrive at a place of healing. When 
 death inevitably enters our lives\, Jewish wisdom and ritual can help us c
 ope with heartbreak and loss\, the anguish of why suffering exists. We wil
 l also seek to understand the big questions of what Judaism says about lif
 e after death and its understanding of messianic times. With a wider lens\
 , we gain a context with which to better understand our...
DTSTART;TZID=America/New_York:20240314T190000
DTEND;TZID=America/New_York:20240314T203000
END:VEVENT
END:VCALENDAR
