BEGIN:VCALENDAR
PRODID:-//eluceo/ical//2.0/EN
VERSION:2.0
CALSCALE:GREGORIAN
BEGIN:VEVENT
UID:af113d3a58a0f6119825b7471b5c80c7
DTSTAMP:20260419T135652Z
SUMMARY:Genesis (Bereshit) Part 1- From Adam to Abraham: The First 20 Gener
 ations
DESCRIPTION:Simon Family JCC\nJCC Event Calendar\nhttps://jcc.jewishva.org/
 jcc-event-calendar/melton-genesis-bereshit-pt-1-474152\n\nExplore the firs
 t book of the Torah — from the creation of Adam and Eve to the story of 
 Abraham and Sarah\, including the very first sibling rivalry that ended in
  murder. Over ten sessions\, we’ll discuss multiple universal narratives
  which serve as the foundation of the Jewish faith. Leaners will gain insi
 ght into the story of the flood\, the Tower of Babel\, and much more. We
 ’ll examine the themes of family\, faith\, honor\, and power and discuss
  how these stories have influenced our people ...
DTSTART;TZID=America/New_York:20250114T120000
DTEND;TZID=America/New_York:20250114T133000
END:VEVENT
END:VCALENDAR
