BEGIN:VCALENDAR
PRODID:-//eluceo/ical//2.0/EN
VERSION:2.0
CALSCALE:GREGORIAN
BEGIN:VEVENT
UID:3161992c94785b253cd0d9976f0ff0e0
DTSTAMP:20260424T005910Z
SUMMARY:Moon Circle - see event notes
DESCRIPTION:Simon Family JCC\nJCC Event Calendar\nhttps://jcc.jewishva.org/
 jcc-event-calendar/moon-circle-1690467408-453244\n\nDue to a number of sch
 eduling conflicts\, we are not going to be able to host Moon Circle at the
  JCC this month.\n\n \n\nWe want to make sure that YOU have the opportuni
 ty to engage with this month’s topic\, Courage. We are creating custom 
 Moon Kits for Adar I that you can pick up at the Simon Family JCC on Thurs
 day\, February 15. The kit will include a candle for the opening ritual\, 
 a small journal and pen\, a craft that reflects Authenticity in Adar\, pep
 permint tea\, and the moon manual.\n\n...
DTSTART;TZID=America/New_York:20240215T000000
DTEND;TZID=America/New_York:20240215T235959
END:VEVENT
END:VCALENDAR
