BEGIN:VCALENDAR
PRODID:-//eluceo/ical//2.0/EN
VERSION:2.0
CALSCALE:GREGORIAN
BEGIN:VEVENT
UID:77f4245c40e97fd842e2ed9ceb646d75
DTSTAMP:20260422T145225Z
SUMMARY:Moon Circle
DESCRIPTION:Simon Family JCC\nJCC Event Calendar\nhttps://jcc.jewishva.org/
 jcc-event-calendar/moon-circle-1690467408-453245\n\nMoon Circle: A monthly
  gathering to connect more deeply with ourselves\, each other and the sacr
 ed flow of the Hebrew calendar.\n\nWe invite you into a tradition that spa
 ns thousands of years: a monthly holiday known as Rosh Chodesh\, meaning "
 head of the month". In the Jewish tradition\, each month begins with a new
  moon\, and the Hebrew calendar is the way the Jewish people have kept tim
 e for millennia.\n\nFor the past few centuries\, Rosh Chodesh has been one
  of Judaism&#39\;s best-kept secrets. We&#39\;...
DTSTART;TZID=America/New_York:20240418T184500
DTEND;TZID=America/New_York:20240418T201500
END:VEVENT
END:VCALENDAR
