BEGIN:VCALENDAR
PRODID:-//eluceo/ical//2.0/EN
VERSION:2.0
CALSCALE:GREGORIAN
BEGIN:VEVENT
UID:a40170c821ac0f510f7ddee7b936a614
DTSTAMP:20260419T135205Z
SUMMARY:Moon Circle
DESCRIPTION:Simon Family JCC\nJCC Event Calendar\nhttps://jcc.jewishva.org/
 jcc-event-calendar/moon-circle-1723135793-473819\n\nMoon Circle: A monthly
  gathering to connect more deeply with ourselves\, each other and the sacr
 ed flow of the Hebrew calendar.\n\nPlease allow a moment for information a
 nd registration to load below.
DTSTART;TZID=America/New_York:20240903T184500
DTEND;TZID=America/New_York:20240903T203000
END:VEVENT
END:VCALENDAR
