BEGIN:VCALENDAR
PRODID:-//eluceo/ical//2.0/EN
VERSION:2.0
CALSCALE:GREGORIAN
BEGIN:VEVENT
UID:9152f750bcfac1856f17a4fdffce1b0c
DTSTAMP:20260423T073010Z
SUMMARY:Parent - Child Learn how to paint with watercolor- ages 7+
DESCRIPTION:Simon Family JCC\nJCC Event Calendar\nhttps://jcc.jewishva.org/
 jcc-event-calendar/mother--child-learn-how-to-paint-with-watercolor-ages-7
 -1704937151-457486\n\nParent - Child learn how to paint with watercolor". 
 Take home the finished painting. Kosher Ohors d&#39\;oeuvres provided. for
  Ages 7+.\nFree for families. Registration prioritized for Jewish affiliat
 ed military families. Space is limited. Will update event with link to reg
 ister when closer to date.
DTSTART;TZID=America/New_York:20240407T140000
DTEND;TZID=America/New_York:20240407T153000
END:VEVENT
END:VCALENDAR
