BEGIN:VCALENDAR
PRODID:-//eluceo/ical//2.0/EN
VERSION:2.0
CALSCALE:GREGORIAN
BEGIN:VEVENT
UID:fd23fec4762039c957b210c9d68f87a4
DTSTAMP:20260421T221411Z
SUMMARY:National Senior Health & Fitness Day
DESCRIPTION:Simon Family JCC\nJCC Event Calendar\nhttps://jcc.jewishva.org/
 jcc-event-calendar/national-senior-health--fitness-day-1687548224-441459\n
 \nThe United Jewish Federation of Tidewater and the Simon Family JCC on th
 e Reba and Sam Sandler Campus of the Tidewater Jewish Community will hold 
 a full day of festivities on Wednesday\, May 29. \n\nStart the morning wi
 th Senior Health and Fitness Vendors from 9:00 AM to 12:00 PM. Vendors wil
 l fill the walls of the Cardo Café with information booths and helpful te
 sting and activities for everyone 55+. \n\nAt 12:00 PM\, Rosanne Leipzig 
 will be speaking about her book Honest Aging: An Insider&#39\;...
DTSTART;TZID=America/New_York:20240529T090000
DTEND;TZID=America/New_York:20240529T150000
END:VEVENT
END:VCALENDAR
