BEGIN:VCALENDAR
PRODID:-//eluceo/ical//2.0/EN
VERSION:2.0
CALSCALE:GREGORIAN
BEGIN:VEVENT
UID:a6183b20b6e29e233543d3a52325e94b
DTSTAMP:20260423T150115Z
SUMMARY:PJ Library Book Exchange
DESCRIPTION:Simon Family JCC\nJCC Event Calendar\nhttps://jcc.jewishva.org/
 jcc-event-calendar/pj-library-book-exchange-1716230699-466477\n\nMark your
  calendars! Bring your children&#39\;s outgrown PJ Library books starting 
 on May 28!\n\nThere will be collection boxes in the lobby of the JCC and a
 t Strelitz International Academy from May 28 - June 6.\n\nOn Friday\, June
  7\, all collected books will be displayed on tables in the JCC for partic
 ipants to chose.\n\nWhat a great way to clear up space in the home and tak
 e home new treasures!
DTSTART;TZID=America/New_York:20240607T090000
DTEND;TZID=America/New_York:20240607T190000
END:VEVENT
END:VCALENDAR
