BEGIN:VCALENDAR
PRODID:-//eluceo/ical//2.0/EN
VERSION:2.0
CALSCALE:GREGORIAN
BEGIN:VEVENT
UID:70456ba83fc93fa8e994ccbbb4ea0c60
DTSTAMP:20260424T093209Z
SUMMARY:Rabbi Sacks Community Book Club: Future Tense
DESCRIPTION:Simon Family JCC\nJCC Event Calendar\nhttps://jcc.jewishva.org/
 jcc-event-calendar/rabbi-sacks-community-book-club-future-tense-1706194465
 -458531\n\nIn response to recent challenges faced by the Jewish community\
 , this series seeks to deepen our understanding of Jewish values and unite
  disparate elements through the exploration of Rabbi Jonathan Sacks' profo
 und teachings. Throughout 2024\, participants will read and discuss six bo
 oks covering a spectrum of significant Jewish ideas\, from the connection 
 to the land of Israel to the relevance of biblical narratives in the moder
 n world.\n\nThe events\, hosted every two months at various...
DTSTART;TZID=America/New_York:20240225T100000
DTEND;TZID=America/New_York:20240225T120000
END:VEVENT
END:VCALENDAR
