BEGIN:VCALENDAR
PRODID:-//eluceo/ical//2.0/EN
VERSION:2.0
CALSCALE:GREGORIAN
BEGIN:VEVENT
UID:4b304d2f28af6d617af679db1362b223
DTSTAMP:20260419T215503Z
SUMMARY:JCC Roundtable Conversations
DESCRIPTION:Simon Family JCC\nJCC Event Calendar\nhttps://jcc.jewishva.org/
 jcc-event-calendar/roundtable-conversations3456-478733\n\nJCC Roundtable D
 iscussions\n\nThe United Jewish Federation of Tidewater and Simon Family J
 CC invites curious members to gather to discuss timely topics\, from the w
 ar in Israel to the latest health technology and everything in between. Br
 ing an article that intrigues you or something you’ve read that has you 
 stumped. Let’s talk about it!\n\nPlease rsvp below
DTSTART;TZID=America/New_York:20250306T130000
DTEND;TZID=America/New_York:20250306T140000
END:VEVENT
END:VCALENDAR
