BEGIN:VCALENDAR
PRODID:-//eluceo/ical//2.0/EN
VERSION:2.0
CALSCALE:GREGORIAN
BEGIN:VEVENT
UID:18904efc4782b182ade804aecc235b82
DTSTAMP:20260425T190102Z
SUMMARY:School Days Out
DESCRIPTION:Simon Family JCC\nJCC Event Calendar\nhttps://jcc.jewishva.org/
 jcc-event-calendar/school-days-out-2-451465\n\nStructured camp style days 
 for K-5 graders when school is not in session. Each day includes crafts\, 
 sports\, swimming and fun.\n\nLearn More & Register\n\n 
DTSTART;TZID=America/New_York:20240219T090000
DTEND;TZID=America/New_York:20240219T160000
END:VEVENT
END:VCALENDAR
