BEGIN:VCALENDAR
PRODID:-//eluceo/ical//2.0/EN
VERSION:2.0
CALSCALE:GREGORIAN
BEGIN:VEVENT
UID:2690b994ab8b3fecf8ee96978776b7aa
DTSTAMP:20260424T081612Z
SUMMARY:School Days Out
DESCRIPTION:Simon Family JCC\nJCC Event Calendar\nhttps://jcc.jewishva.org/
 jcc-event-calendar/school-days-out-3-451466\n\n \n\nStructured camp style
  days for K-5 graders when school is not in session. Each day includes cra
 fts\, sports\, swimming and fun.\n\nLearn More & Register
DTSTART;TZID=America/New_York:20240401T090000
DTEND;TZID=America/New_York:20240405T160000
END:VEVENT
END:VCALENDAR
