BEGIN:VCALENDAR
PRODID:-//eluceo/ical//2.0/EN
VERSION:2.0
CALSCALE:GREGORIAN
BEGIN:VEVENT
UID:eebe55871d7fdbb166a5270518160eee
DTSTAMP:20260424T224841Z
SUMMARY:Scripture on the Silver Screen
DESCRIPTION:Simon Family JCC\nJCC Event Calendar\nhttps://jcc.jewishva.org/
 jcc-event-calendar/scripture-on-the-silver-screen-447919\n\nWhat happens w
 hen a famous story is retold to a new audience? The retelling is usually a
  blend of old and new. Whether done consciously or not\, the act of retell
 ing is often also an act of adaptation. Do the transformations inherent in
  retelling also take place when the famous tale is a Bible story?\n\nIn th
 is ten-session course\, we will learn how Hollywood retells a Bible story.
  We will watch five films and analyze them.\n\nIn the course of our study\
 , we will note a fascinating synthesis. Th...
DTSTART;TZID=America/New_York:20231205T110000
DTEND;TZID=America/New_York:20231205T123000
END:VEVENT
END:VCALENDAR
