BEGIN:VCALENDAR
PRODID:-//eluceo/ical//2.0/EN
VERSION:2.0
CALSCALE:GREGORIAN
BEGIN:VEVENT
UID:5c8420b85b4d9ae796236ca5045ffea3
DTSTAMP:20260424T053657Z
SUMMARY:Scripture on the Silver Screen
DESCRIPTION:Simon Family JCC\nJCC Event Calendar\nhttps://jcc.jewishva.org/
 jcc-event-calendar/scripture-on-the-silver-screen-Jan-2-452802\n\nWhat hap
 pens when a famous story is retold to a new audience? The retelling is usu
 ally a blend of old and new. Whether done consciously or not\, the act of 
 retelling is often also an act of adaptation. Do the transformations inher
 ent in retelling also take place when the famous tale is a Bible story?\n\
 nIn this ten-session course\, we will learn how Hollywood retells a Bible 
 story. We will watch five films and analyze them.\n\nIn the course of our 
 study\, we will note a fascinating synthesis. Th...
DTSTART;TZID=America/New_York:20240102T110000
DTEND;TZID=America/New_York:20240102T123000
END:VEVENT
END:VCALENDAR
