BEGIN:VCALENDAR
PRODID:-//eluceo/ical//2.0/EN
VERSION:2.0
CALSCALE:GREGORIAN
BEGIN:VEVENT
UID:42f180837f749257ecc9d8447d35fa98
DTSTAMP:20260420T054204Z
SUMMARY:Shabbat Simplified: Building a Meaningful Shabbat
DESCRIPTION:Simon Family JCC\nJCC Event Calendar\nhttps://jcc.jewishva.org/
 jcc-event-calendar/shabbat-simplified-building-a-meaningful-shabbat-173048
 6496-479671\n\nWhether you&#39\;re new to Shabbat observance or looking to
  deepen your practice\, this class will guide you through the fundamentals
  of structuring a meaningful Shabbat experience. We’ll cover the basics\
 , address common misconceptions\, and offer practical insights to make Sha
 bbat meaningful to you. Transform your week with the fun\, family-bonding 
 sanctuary of Shabbat.\n\nTaught by Rabbi Avi Farkas.\n\nRegister at ignit
 e757.org/programs\n\nThis class is presented by Ignite 757 in partnership 
 wit...
DTSTART;TZID=America/New_York:20241209T120000
DTEND;TZID=America/New_York:20241209T130000
END:VEVENT
END:VCALENDAR
