BEGIN:VCALENDAR
PRODID:-//eluceo/ical//2.0/EN
VERSION:2.0
CALSCALE:GREGORIAN
BEGIN:VEVENT
UID:aa1548f60c43b92a4edc200e61c352af
DTSTAMP:20260424T072508Z
SUMMARY:Shabbat@Home - Blessing the children
DESCRIPTION:Simon Family JCC\nJCC Event Calendar\nhttps://jcc.jewishva.org/
 jcc-event-calendar/shabbathome---blessing-the-children-1694458466-447927\n
 \nThe Shabbat@Home series consists of 5 interactive evenings for the entir
 e family\, with dinner included so that you don't need to think about cook
 ing when you get home. In the first four sessions\, we will explore one as
 pect of hosting Shabbat dinner in your home for your family through conver
 sation and crafting. You'll go home after each session with everything you
  need to add a new twist to your Friday nights.\n\nAt the end of the year\
 , we will pull together everything we learned during a...
DTSTART;TZID=America/New_York:20240123T173000
DTEND;TZID=America/New_York:20240123T190000
END:VEVENT
END:VCALENDAR
