BEGIN:VCALENDAR
PRODID:-//eluceo/ical//2.0/EN
VERSION:2.0
CALSCALE:GREGORIAN
BEGIN:VEVENT
UID:23713d1ff1021497bd9356b50faea4d1
DTSTAMP:20260420T134142Z
SUMMARY:Summer Employment Workshop
DESCRIPTION:Simon Family JCC\nJCC Event Calendar\nhttps://jcc.jewishva.org/
 jcc-event-calendar/summer-employment-workshop-1732208734-480945\n\nCareer 
 Launch Summer Employment Workshop\n\nPlease allow a moment for info and re
 gistration to load below.\n\n 
DTSTART;TZID=America/New_York:20250219T180000
DTEND;TZID=America/New_York:20250219T200000
END:VEVENT
END:VCALENDAR
