BEGIN:VCALENDAR
PRODID:-//eluceo/ical//2.0/EN
VERSION:2.0
CALSCALE:GREGORIAN
BEGIN:VEVENT
UID:ab50dc376115e1afde8f04af62bdc63f
DTSTAMP:20260422T175103Z
SUMMARY:Sunday Fun Day Movie
DESCRIPTION:Simon Family JCC\nJCC Event Calendar\nhttps://jcc.jewishva.org/
 jcc-event-calendar/sunday-fun-day-1731599670-480369\n\nJoin PJ Library in 
 Tidewater for our next Sunday Fun Day Movie!
DTSTART;TZID=America/New_York:20250112T150000
DTEND;TZID=America/New_York:20250112T170000
END:VEVENT
END:VCALENDAR
