BEGIN:VCALENDAR
PRODID:-//eluceo/ical//2.0/EN
VERSION:2.0
CALSCALE:GREGORIAN
BEGIN:VEVENT
UID:4895b89442d0618ad007ea789e27d093
DTSTAMP:20260424T150504Z
SUMMARY:Sunday Fun Day
DESCRIPTION:Simon Family JCC\nJCC Event Calendar\nhttps://jcc.jewishva.org/
 jcc-event-calendar/sunday-fun-day-3-446981\n\nJoin our Shinshinim\, Maya a
 nd Naomi\, for Sunday Fun Day at the Brock Environmental Center for a Tu B
 &#39\;Shevat celebration.\n\nWe will learn about the importance of trees a
 nd how they grow\, enjoy Tu B&#39\;Shevat-themed crafts\, and hear about h
 ow the holiday is celebrated in Israel. \n\nRegistration is FREE but LIMI
 TED\, so be sure to RSVP today!
DTSTART;TZID=America/New_York:20240121T140000
DTEND;TZID=America/New_York:20240121T153000
END:VEVENT
END:VCALENDAR
