BEGIN:VCALENDAR
PRODID:-//eluceo/ical//2.0/EN
VERSION:2.0
CALSCALE:GREGORIAN
BEGIN:VEVENT
UID:1b0953eb043817cbd47b6b32bf48a178
DTSTAMP:20260423T151232Z
SUMMARY:JCC Book Club - Gioia Diliberto
DESCRIPTION:Simon Family JCC\nJCC Event Calendar\nhttps://jcc.jewishva.org/
 jcc-event-calendar/tentative-lee-and-bernard-jaffe-family-jewish-book-fest
 ival-program-1692822386-446455\n\nGioia Diliberto - Coco at the Ritz\n\n 
 \n\nJBC Author Event\n\nJoin us for a discussion and online conversation w
 ith the author.\n\nIf you enjoy reading and discussing books with others\,
  this group is for you. The discussions are lively\, informative and at ti
 mes\, soul-searching.\n\nThird Monday of each month\n1:30 PM – 3:00 PM\n
 In-person or via Zoom\nPrice: Free\n\nRSVP to Mia Klein at 757-452-3184 or
  MKlein@UJFT.org
DTSTART;TZID=America/New_York:20240318T133000
DTEND;TZID=America/New_York:20240318T143000
END:VEVENT
END:VCALENDAR
