BEGIN:VCALENDAR
PRODID:-//eluceo/ical//2.0/EN
VERSION:2.0
CALSCALE:GREGORIAN
BEGIN:VEVENT
UID:c34540715d8a835ab3ae2721b54b5a0a
DTSTAMP:20260419T212055Z
SUMMARY:A Taste of Timeless Tales
DESCRIPTION:Simon Family JCC\nJCC Event Calendar\nhttps://jcc.jewishva.org/
 jcc-event-calendar/the-lunar-eclipse--purim-with-guest-teacher-rabbi-shira
 -milgrom-1738008363-485063\n\nA Taste of Timeless Tales: Unveiling Esther\
 nMarch 11\, 12:00 PM\nSandler Family Campus\n\nPlease allow a moment for r
 egistration below to load.
DTSTART;TZID=America/New_York:20250311T120000
DTEND;TZID=America/New_York:20250311T133000
END:VEVENT
END:VCALENDAR
