BEGIN:VCALENDAR
PRODID:-//eluceo/ical//2.0/EN
VERSION:2.0
CALSCALE:GREGORIAN
BEGIN:VEVENT
UID:98563ef32dc4355f6f308f4923c91bd1
DTSTAMP:20260420T035751Z
SUMMARY:Veterans Day Shabbat with PJ Library
DESCRIPTION:Simon Family JCC\nJCC Event Calendar\nhttps://jcc.jewishva.org/
 jcc-event-calendar/veterans-day-shabbat-with-pj-library-1730750388-479763\
 n\nJoin the PJ Library Jewish Military community for a &#39\;pop up style"
  shabbat get together as we honor and celebrate our Veterans. We will be m
 eeting outside of the Simon Family JCC by the Jewish Veteran Memorial.\n\n
 This event is open to all! If you have any questions\, email Jackie at pjt
 idewater@gmail.com.
DTSTART;TZID=America/New_York:20241108T163000
DTEND;TZID=America/New_York:20241108T173000
END:VEVENT
END:VCALENDAR
