BEGIN:VCALENDAR
PRODID:-//eluceo/ical//2.0/EN
VERSION:2.0
CALSCALE:GREGORIAN
BEGIN:VEVENT
UID:5f75cf099136b74c3513a3784c9191b8
DTSTAMP:20260425T125947Z
SUMMARY:JCC Winter Camp
DESCRIPTION:Simon Family JCC\nJCC Event Calendar\nhttps://jcc.jewishva.org/
 jcc-event-calendar/winter-camp-1694618737-448094\n\nStructured camp style 
 days for K-5 graders during winter vacation. Each day includes crafts\, sp
 orts\, swimming and fun.\n\nLearn More & Register
DTSTART;TZID=America/New_York:20231229T080000
DTEND;TZID=America/New_York:20231229T180000
END:VEVENT
END:VCALENDAR
