BEGIN:VCALENDAR
PRODID:-//eluceo/ical//2.0/EN
VERSION:2.0
CALSCALE:GREGORIAN
BEGIN:VEVENT
UID:d9286b4d747ef7462aa495db8f817293
DTSTAMP:20260424T155307Z
SUMMARY:Words to Action: Empowering Students to Address Antisemitism
DESCRIPTION:Simon Family JCC\nJCC Event Calendar\nhttps://jcc.jewishva.org/
 jcc-event-calendar/words-to-action-an-interactive-workshop-for-7th-12th-gr
 aders-1704983526-457494\n\nAn Interactive Workshop for 7th-12th graders\n\
 nPlease allow a moment for widget below to load.\n\n\n\nOffered by the Jew
 ish Community Relations Council of the United Jewish Federation of Tidewat
 er and the ADL\, in partnership with Ohef Sholom Temple\, Congregation Bet
 h El\, and Temple Emanuel Virginia Beach.
DTSTART;TZID=America/New_York:20240211T100000
DTEND;TZID=America/New_York:20240211T120000
END:VEVENT
END:VCALENDAR
