BEGIN:VCALENDAR
PRODID:-//eluceo/ical//2.0/EN
VERSION:2.0
CALSCALE:GREGORIAN
BEGIN:VEVENT
UID:662647b569bd267b47fb8850bc29466c
DTSTAMP:20260421T075826Z
SUMMARY:YAD Coworking Days
DESCRIPTION:Simon Family JCC\nJCC Event Calendar\nhttps://jcc.jewishva.org/
 jcc-event-calendar/yad-coworking-days-470168\n\nDone with working from hom
 e by yourself? Free to leave the office and work in another space? If so\,
  come join us on select Tuesdays and Fridays this Summer as we Cowork out 
 of the JCC together (Rooms 236/237). YAD will provide snacks\, coffee\, an
 d power outlets. \n\nhttps://jcc.jewishva.org/jcc-event-calendar/yad-cowo
 rking-day-34-470171
DTSTART;TZID=America/New_York:20240625T090000
DTEND;TZID=America/New_York:20240625T110000
END:VEVENT
END:VCALENDAR
