BEGIN:VCALENDAR
PRODID:-//eluceo/ical//2.0/EN
VERSION:2.0
CALSCALE:GREGORIAN
BEGIN:VEVENT
UID:faf24a7d4e8c7a842d47deb7af6038e0
DTSTAMP:20260423T033021Z
SUMMARY:YAD Newish & Jewish Brunch
DESCRIPTION:Simon Family JCC\nJCC Event Calendar\nhttps://jcc.jewishva.org/
 jcc-event-calendar/yad-newish-jewish-brunch-458944\n\nAged 22-45\, new or 
 returning to the community?\n\nPlease wait for widget below to load
DTSTART;TZID=America/New_York:20240303T110000
DTEND;TZID=America/New_York:20240303T130000
END:VEVENT
END:VCALENDAR
