BEGIN:VCALENDAR
PRODID:-//eluceo/ical//2.0/EN
VERSION:2.0
CALSCALE:GREGORIAN
BEGIN:VEVENT
UID:59e8e156eeab0c795cdea30912179b1e
DTSTAMP:20260424T224231Z
SUMMARY:Yiddish Club
DESCRIPTION:Simon Family JCC\nJCC Event Calendar\nhttps://jcc.jewishva.org/
 jcc-event-calendar/yiddish-club-1694117132-452240\n\nYiddish Club is retur
 ning to the Simon Family JCC!  This event promises to be a joyous occasi
 on where attendees can reconnect with old friends and make new ones who sh
 are a love for Yiddishkeit.\n\nThe Yiddish Club is a vibrant hub for prese
 rving and promoting the Yiddish language and its rich heritage\, making it
  an essential part of the community.\n\nThis club is free and open to the 
 community and will reoccur every other Tuesday throughout the year. RSVP R
 EQUIRED. Please see below.\n\n 
DTSTART;TZID=America/New_York:20231212T130000
DTEND;TZID=America/New_York:20231212T143000
END:VEVENT
END:VCALENDAR
