BEGIN:VCALENDAR
PRODID:-//eluceo/ical//2.0/EN
VERSION:2.0
CALSCALE:GREGORIAN
BEGIN:VEVENT
UID:058e2a3379b021b547e8d20aebc08747
DTSTAMP:20260422T095150Z
SUMMARY:Yom Ha'Zikaron Community Memorial
DESCRIPTION:Simon Family JCC\nJCC Event Calendar\nhttps://jcc.jewishva.org/
 jcc-event-calendar/yom-hazikaron-community-memorial-465720\n\nMaya and Nao
 mi\, Tidewater&#39\;s Shinshinim\, in partnership with UJFT’s Young Adul
 t Division\, invite the community to attend a memorial for Israel’s fall
 en soldiers and victims of terror.\n\nThis gathering includes meaningful p
 rayers\, a moment of silence while listening to the tzfirah (the siren tha
 t sounds across Israel on Yom Ha’Zikaron)\, and a reading of the final l
 etters written by some of the combat soldiers who lost their lives in the 
 Israel-Hamas War.\n\nOn the walk to the memorial\, y...
DTSTART;TZID=America/New_York:20240513T160000
DTEND;TZID=America/New_York:20240513T163000
END:VEVENT
END:VCALENDAR
