BEGIN:VCALENDAR
PRODID:-//eluceo/ical//2.0/EN
VERSION:2.0
CALSCALE:GREGORIAN
BEGIN:VEVENT
UID:b33c712ad7f13de070878025b33a9e35
DTSTAMP:20260424T170231Z
SUMMARY:Young Adult Division Drinks and Dreidels
DESCRIPTION:Simon Family JCC\nJCC Event Calendar\nhttps://jcc.jewishva.org/
 jcc-event-calendar/young-adult-division-drinks-and-dreidels-1699467392-451
 785\n\nJoin fellow Young Jewish Adults for our Hanukkah get together!\n\n(
 Please allow a moment for the widget below to load)
DTSTART;TZID=America/New_York:20231212T190000
DTEND;TZID=America/New_York:20231212T210000
END:VEVENT
END:VCALENDAR
